BEGIN:VCALENDAR
VERSION:2.0
PRODID:-//Líderes en turismo - ECPv4.3.5//NONSGML v1.0//EN
CALSCALE:GREGORIAN
METHOD:PUBLISH
X-WR-CALNAME:Líderes en turismo
X-ORIGINAL-URL:http://www.lideresenturismo.cl/tdc
X-WR-CALDESC:Events for Líderes en turismo
BEGIN:VEVENT
DTSTART;VALUE=DATE:20150714
DTEND;VALUE=DATE:20150714
DTSTAMP:20260423T231548
CREATED:20150626T012617Z
LAST-MODIFIED:20150626T012617Z
UID:2136-1436832000-1436918399@www.lideresenturismo.cl
SUMMARY:Modulo 7: Estándares básicos de sustentabilidad
DESCRIPTION:
URL:http://www.lideresenturismo.cl/tdc/event/modulo-7-estandares-basicos-de-sustentabilidad/
CATEGORIES:Eventos
END:VEVENT
END:VCALENDAR