BEGIN:VCALENDAR
VERSION:2.0
PRODID:-//Líderes en turismo - ECPv4.3.5//NONSGML v1.0//EN
CALSCALE:GREGORIAN
METHOD:PUBLISH
X-WR-CALNAME:Líderes en turismo
X-ORIGINAL-URL:http://www.lideresenturismo.cl/tdc
X-WR-CALDESC:Events for Líderes en turismo
BEGIN:VEVENT
DTSTART;VALUE=DATE:20150707
DTEND;VALUE=DATE:20150707
DTSTAMP:20260423T231537
CREATED:20150626T012516Z
LAST-MODIFIED:20150626T012516Z
UID:2135-1436227200-1436313599@www.lideresenturismo.cl
SUMMARY:Modulo 6: Taller de Informativos
DESCRIPTION:
URL:http://www.lideresenturismo.cl/tdc/event/modulo-6-taller-de-informativos-2/
CATEGORIES:Eventos
END:VEVENT
END:VCALENDAR