BEGIN:VCALENDAR
VERSION:2.0
PRODID:-//Líderes en turismo - ECPv4.3.5//NONSGML v1.0//EN
CALSCALE:GREGORIAN
METHOD:PUBLISH
X-WR-CALNAME:Líderes en turismo
X-ORIGINAL-URL:http://www.lideresenturismo.cl/tdc
X-WR-CALDESC:Events for Líderes en turismo
BEGIN:VEVENT
DTSTART;VALUE=DATE:20150623
DTEND;VALUE=DATE:20150623
DTSTAMP:20260423T232130
CREATED:20150626T012057Z
LAST-MODIFIED:20150626T012057Z
UID:2131-1435017600-1435103999@www.lideresenturismo.cl
SUMMARY:Módulo 5: Taller de políticas y medidas
DESCRIPTION:
URL:http://www.lideresenturismo.cl/tdc/event/modulo-5-taller-de-politicas-y-medidas-2/
CATEGORIES:Eventos
END:VEVENT
END:VCALENDAR