BEGIN:VCALENDAR
VERSION:2.0
PRODID:-//Líderes en turismo - ECPv4.3.5//NONSGML v1.0//EN
CALSCALE:GREGORIAN
METHOD:PUBLISH
X-WR-CALNAME:Líderes en turismo
X-ORIGINAL-URL:http://www.lideresenturismo.cl/tdc
X-WR-CALDESC:Events for Líderes en turismo
BEGIN:VEVENT
DTSTART;VALUE=DATE:20150602
DTEND;VALUE=DATE:20150602
DTSTAMP:20260424T020613
CREATED:20150626T011601Z
LAST-MODIFIED:20150626T011601Z
UID:2127-1433203200-1433289599@www.lideresenturismo.cl
SUMMARY:Entrenamiento: Expectativa Empresarial
DESCRIPTION:
URL:http://www.lideresenturismo.cl/tdc/event/entrenamiento-expectativa-empresarial/
CATEGORIES:Eventos
END:VEVENT
END:VCALENDAR