BEGIN:VCALENDAR
VERSION:2.0
PRODID:-//Líderes en turismo - ECPv4.3.5//NONSGML v1.0//EN
CALSCALE:GREGORIAN
METHOD:PUBLISH
X-WR-CALNAME:Líderes en turismo
X-ORIGINAL-URL:http://www.lideresenturismo.cl/tdc
X-WR-CALDESC:Events for Líderes en turismo
BEGIN:VEVENT
DTSTART;VALUE=DATE:20150709
DTEND;VALUE=DATE:20150709
DTSTAMP:20260423T232024
CREATED:20150626T013039Z
LAST-MODIFIED:20150626T013039Z
UID:2142-1436400000-1436486399@www.lideresenturismo.cl
SUMMARY:Entrenamiento: Expectativa empresarial
DESCRIPTION:
URL:http://www.lideresenturismo.cl/tdc/event/entrenamiento-expectativa-empresarial-2/
CATEGORIES:Eventos
END:VEVENT
END:VCALENDAR