BEGIN:VCALENDAR
VERSION:2.0
PRODID:-//Líderes en turismo - ECPv4.3.5//NONSGML v1.0//EN
CALSCALE:GREGORIAN
METHOD:PUBLISH
X-WR-CALNAME:Líderes en turismo
X-ORIGINAL-URL:http://www.lideresenturismo.cl/tdc
X-WR-CALDESC:Events for Líderes en turismo
BEGIN:VEVENT
DTSTART;TZID=UTC-3:20150831T080000
DTEND;TZID=UTC-3:20150831T170000
DTSTAMP:20260423T220423
CREATED:20151125T114520Z
LAST-MODIFIED:20151125T114520Z
UID:2293-1441008000-1441040400@www.lideresenturismo.cl
SUMMARY:Asesorías de acompañamiento
DESCRIPTION:
URL:http://www.lideresenturismo.cl/tdc/event/asesorias-de-acompanamiento-8/
END:VEVENT
END:VCALENDAR