BEGIN:VCALENDAR
VERSION:2.0
PRODID:-//Líderes en turismo - ECPv4.3.5//NONSGML v1.0//EN
CALSCALE:GREGORIAN
METHOD:PUBLISH
X-WR-CALNAME:Líderes en turismo
X-ORIGINAL-URL:http://www.lideresenturismo.cl/tdc
X-WR-CALDESC:Events for Líderes en turismo
BEGIN:VEVENT
DTSTART;VALUE=DATE:20150810
DTEND;VALUE=DATE:20150816
DTSTAMP:20260423T220841
CREATED:20150626T013547Z
LAST-MODIFIED:20150626T013547Z
UID:2146-1439164800-1439769599@www.lideresenturismo.cl
SUMMARY:Asesorías de acompañamiento
DESCRIPTION:Intervención alumnos
URL:http://www.lideresenturismo.cl/tdc/event/asesorias-de-acompanamiento-7/
CATEGORIES:Eventos
END:VEVENT
END:VCALENDAR