BEGIN:VCALENDAR
VERSION:2.0
PRODID:-//Líderes en turismo - ECPv4.3.5//NONSGML v1.0//EN
CALSCALE:GREGORIAN
METHOD:PUBLISH
X-WR-CALNAME:Líderes en turismo
X-ORIGINAL-URL:http://www.lideresenturismo.cl/tdc
X-WR-CALDESC:Events for Líderes en turismo
BEGIN:VEVENT
DTSTART;VALUE=DATE:20150817
DTEND;VALUE=DATE:20150823
DTSTAMP:20260423T214937
CREATED:20150626T013425Z
LAST-MODIFIED:20150626T013425Z
UID:2145-1439769600-1440374399@www.lideresenturismo.cl
SUMMARY:Asesorías de acompañamiento
DESCRIPTION:Diagnóstico final
URL:http://www.lideresenturismo.cl/tdc/event/asesorias-de-acompanamiento-6/
CATEGORIES:Eventos
END:VEVENT
END:VCALENDAR